BEGIN:VCALENDAR
VERSION:2.0
PRODID:-//wp-events-plugin.com//7.0.4//EN
TZID:America/Los_Angeles
X-WR-TIMEZONE:America/Los_Angeles
BEGIN:VEVENT
UID:309@communityshul.com
DTSTART:20190801T160000Z
DTEND:20190801T220000Z
DTSTAMP:20190514T184646Z
URL:https://communityshul.com/events/2019-camp-haverim-summer-camp-18/
SUMMARY:2019 Camp Haverim Summer Camp
DESCRIPTION:Camp Haverim Summer Camp\n\nSanta Barbara’s Jewish day-camp\,
  is back for its 14th season! Once again\, camp will meet at the spectacul
 ar scenic Cate School. (Transportation available from Goleta and SB)\n\nTh
 ere are two (2) two-week sessions: Session I: July 8 - July 19\,\n\n Sess
 ion II: July 22 - August 2\, \n\nOur camp is accredited by the American C
 amp Association and has a non-denominational approach in activities (inclu
 ding Art\, Music\, Newspaper\, Drama\, Talent Shows\, Daily Swimming (or a
 n alternative water activity\, such as slip-n-slid) and a full array of Sp
 orts to campers K-6. We offer a separate program with more challenging act
 ivities for 7th and 8th graders.\n\nFor more information: visit www.campha
 verim.com or contact Camp Director Itzik Ben Sasson at 805/895-6593 or cam
 phaverim@gmail.com\n\n
CATEGORIES:Education
LOCATION:Cate School\, 1960 Cate Mesa Rd\, \, Carpinteria \, CA \, 93013\, 
 United States
GEO:34.405005;-119.47738090000001
X-APPLE-STRUCTURED-LOCATION;VALUE=URI;X-ADDRESS=1960 Cate Mesa Rd\, \, Carp
 interia \, CA \, 93013\, United States;X-APPLE-RADIUS=100;X-TITLE=Cate Sch
 ool:geo:34.405005,-119.47738090000001
END:VEVENT
END:VCALENDAR