BEGIN:VCALENDAR
VERSION:2.0
PRODID:-//wp-events-plugin.com//7.0.4//EN
TZID:America/Los_Angeles
X-WR-TIMEZONE:America/Los_Angeles
BEGIN:VEVENT
UID:92@communityshul.com
DTSTART:20180210T200000Z
DTEND:20180210T210000Z
DTSTAMP:20180205T182112Z
URL:https://communityshul.com/events/829/
SUMMARY:Torah Study with Debi Lewis
DESCRIPTION:Please join us for Torah Study on February 10th immediately f
 ollowing services. Our Intern Debi Lewis will guide us through a deeper lo
 ok at the Torah portion\, Mishpatim using a variety of texts. No prior kno
 wledge is required.\n\n\n
CATEGORIES:Education
LOCATION:Rabbi Arthur's home\, 4598 Camino Molinero\, Santa Barbara\, CA\, 
 93110\, United States
GEO:34.454977;-119.780821
X-APPLE-STRUCTURED-LOCATION;VALUE=URI;X-ADDRESS=4598 Camino Molinero\, Sant
 a Barbara\, CA\, 93110\, United States;X-APPLE-RADIUS=100;X-TITLE=Rabbi Ar
 thur's home:geo:34.454977,-119.780821
END:VEVENT
END:VCALENDAR