BEGIN:VCALENDAR
VERSION:2.0
PRODID:-//wp-events-plugin.com//7.0.4//EN
TZID:America/Los_Angeles
X-WR-TIMEZONE:America/Los_Angeles
BEGIN:VEVENT
UID:93@communityshul.com
DTSTART:20180303T200000Z
DTEND:20180303T210000Z
DTSTAMP:20180226T233425Z
URL:https://communityshul.com/events/830/
SUMMARY:Kabbalah with Rabbi Arthur
DESCRIPTION:Rabbi Arthur facilitates this monthly gathering at his home whi
 ch always begins with bagels\, cream cheese\, orange juice\, tea and coffe
 e. Guest scholars are often invited\, and a yearly retreat is offered to e
 nrich and open up this most stimulating mystical tradition.No experience w
 ith Kabbalah is required\n
CATEGORIES:Kabballah
LOCATION:Rabbi Arthur's home\, 4598 Camino Molinero\, Santa Barbara\, CA\, 
 93110\, United States
GEO:34.454977;-119.780821
X-APPLE-STRUCTURED-LOCATION;VALUE=URI;X-ADDRESS=4598 Camino Molinero\, Sant
 a Barbara\, CA\, 93110\, United States;X-APPLE-RADIUS=100;X-TITLE=Rabbi Ar
 thur's home:geo:34.454977,-119.780821
END:VEVENT
END:VCALENDAR