BEGIN:VCALENDAR
VERSION:2.0
PRODID:-//wp-events-plugin.com//7.0.4//EN
TZID:America/Los_Angeles
X-WR-TIMEZONE:America/Los_Angeles
BEGIN:VEVENT
UID:191@communityshul.com
DTSTART:20180725T160000Z
DTEND:20180725T220000Z
DTSTAMP:20180508T193923Z
URL:https://communityshul.com/events/camp-haverim-10/
SUMMARY:Camp Haverim
DESCRIPTION:\n\nWhat are your kids doing this summer?\n\n2018 Camp Haverim 
 Summer Camp\n\nSanta Barbara’s Jewish day-camp is back for its 14th seas
 on! Once again\, the camp will meet at the spectacular scenic Cate School.
  (Transportation available from Goleta and SB)\n\nThere are two (2) two-we
 ek sessions: Session I: July 16th - July 27st \n\n Session II: July 30th 
 - August 10th\n\nOur camp is accredited by the American Camp Association a
 nd has a non-denominational approach in activities (including Art\, Music\
 , Newspaper\, Drama\, Talent Shows\, Daily Swimming (or an alternative wat
 er activity\, such as slip-n-slid) and a full array of Sports to campers K
 -6. We offer a separate program with more challenging activities for 7th a
 nd 8th graders.\n\nFor more information: visit www.camphaverim.com or cont
 act Camp Director Itzik Ben Sasson at 805/895-6593 or camphaverim@gmail.co
 m\n\n&nbsp\;
CATEGORIES:Education
LOCATION:Cate School\, 1960 Cate Mesa Rd\, \, Carpinteria \, CA \, 93013\, 
 United States
GEO:34.405005;-119.47738090000001
X-APPLE-STRUCTURED-LOCATION;VALUE=URI;X-ADDRESS=1960 Cate Mesa Rd\, \, Carp
 interia \, CA \, 93013\, United States;X-APPLE-RADIUS=100;X-TITLE=Cate Sch
 ool:geo:34.405005,-119.47738090000001
END:VEVENT
END:VCALENDAR