BEGIN:VCALENDAR
VERSION:2.0
PRODID:-//wp-events-plugin.com//7.0.4//EN
TZID:America/Los_Angeles
X-WR-TIMEZONE:America/Los_Angeles
BEGIN:VEVENT
UID:256@communityshul.com
DTSTART:20181203T000000Z
DTEND:20181203T023000Z
DTSTAMP:20181125T213330Z
URL:https://communityshul.com/events/chanukah-celebration-1st-candle-at-th
 e-jewish-federation/
SUMMARY:Chanukah Celebration 1st Candle at the Jewish Federation
DESCRIPTION:This year the Community Shul Chanukah Celebration will be held 
 at the Jewish Federation of Greater Santa Barbara\n\nIf you love Chanukah\
 , if you love lighting candles\, you will not want to miss this great even
 t!\n\n* Art project and storytelling for the kids!\n\n* Adult teaching wit
 h the Rabbi!\n\n* Chanukah songs\n\n* Latkes\, Salad\, Pizza\, Jelly Doug
 hnuts (Sufganiot) and drinks.\n\n**Please bring your menorah!**\n\n
CATEGORIES:Celebration
LOCATION:The Jewish Federation’s Bronfman Family JCC.\, 524 Chapala St\, 
 Santa Barbara\, CA\, 93101\, United States
GEO:34.416685;-119.697105
X-APPLE-STRUCTURED-LOCATION;VALUE=URI;X-ADDRESS=524 Chapala St\, Santa Barb
 ara\, CA\, 93101\, United States;X-APPLE-RADIUS=100;X-TITLE=The Jewish Fed
 eration’s Bronfman Family JCC.:geo:34.416685,-119.697105
END:VEVENT
END:VCALENDAR