BEGIN:VCALENDAR
VERSION:2.0
PRODID:-//wp-events-plugin.com//7.0.4//EN
TZID:America/Los_Angeles
X-WR-TIMEZONE:America/Los_Angeles
BEGIN:VEVENT
UID:178@communityshul.com
DTSTART:20180127T220000Z
DTEND:20180128T013000Z
DTSTAMP:20171204T211128Z
URL:https://communityshul.com/events/community-shul-bnai-mitzvah-tu-bishva
 t-seder/
SUMMARY:Our annual B’nai Mitzvah afternoon with  Rabbi Arthur
DESCRIPTION:\n\n Our Annual B’nai Mitzvah afternoon with Rabbi Arthur 
 will take place Saturday\, January 27\, 3:00 – 6:30 p.m. at the rabbi
 ’s home. We will play games\, go for a hike (unless it is raining)\, cel
 ebrate a brief holiday called Tu B¹Shvat\, which focuses on ecological is
 sues\, have dinner\, and then end with Havdalah.\n\n\n
CATEGORIES:Education,Religious School
LOCATION:Rabbi Arthur's home\, 4598 Camino Molinero\, Santa Barbara\, CA\, 
 93110\, United States
GEO:34.454977;-119.780821
X-APPLE-STRUCTURED-LOCATION;VALUE=URI;X-ADDRESS=4598 Camino Molinero\, Sant
 a Barbara\, CA\, 93110\, United States;X-APPLE-RADIUS=100;X-TITLE=Rabbi Ar
 thur's home:geo:34.454977,-119.780821
END:VEVENT
END:VCALENDAR