BEGIN:VCALENDAR
VERSION:2.0
PRODID:-//wp-events-plugin.com//7.0.4//EN
TZID:America/Los_Angeles
X-WR-TIMEZONE:America/Los_Angeles
BEGIN:VEVENT
UID:331@communityshul.com
DTSTART:20190923T103000Z
DTEND:20190923T123000Z
DTSTAMP:20190517T125301Z
URL:https://communityshul.com/events/community-shul-religious-school-11/
SUMMARY:Community Shul Religious School
DESCRIPTION:Our young children's program and B'nai Mitzvah program\, meet o
 n Mondays from 3:30 to 5:30p.m at the Bronfman Family JCC\n\n 	Personal at
 tention–Community Shul’s religious school program which begins at 1st 
 grade is a small program with very experienced teachers and Individuali
 zed tailored study program of Hebrew.\n 	Inspiring Judaica curriculum- W
 e strive to give our students a strong basis in Jewish literacy (holidays\
 , traditions\, Hebrew language &amp\; stories)\, Jewish ritual practices\,
  a personal understanding of God\, the Jewish soul\, and Jewish ethics.\n 
 	Our Staff-Community Shul of Montecito and Santa Barbara provides a deeply
  meaningful program supported by individualized meetings with Rabbi Arthur
  and weekly tutorial support by our Hebrew speaking religious school staff
 .\n 	Individualized B’nai Mitzvah Experience- The individualized B’nai
  Mitzvah program begins when the student becomes part of the program and i
 s provided individualized Hebrew education based on one’s ability. This 
 unique focus on individual needs continues throughout the entire program.\
 n 	Community building activities- There are community building activities 
 such as our ‘famous’ Fairfax Food’ or ‘Los Angeles Synagogue’ To
 ur and the Rabbi’s retreat. Six months before the bar/bat event\, Rabbi 
 Arthur meets with the candidate and candidate’s family on a regular basi
 s.\n\nIf you have any questions or you would like to visit the school\, do
  not hesitate to call us at 805.895.6593\n\nItzik Ben Sasson\n\nEducation
  Director
CATEGORIES:Education
LOCATION:Jewish Community Center\, 524 Chapala St \, Santa Barbara\, CA\, 
 93101\, United States
GEO:34.4166846;-119.69710520000001
X-APPLE-STRUCTURED-LOCATION;VALUE=URI;X-ADDRESS=524 Chapala St \, Santa Ba
 rbara\, CA\, 93101\, United States;X-APPLE-RADIUS=100;X-TITLE=Jewish Commu
 nity Center:geo:34.4166846,-119.69710520000001
END:VEVENT
END:VCALENDAR