BEGIN:VCALENDAR
VERSION:2.0
PRODID:-//wp-events-plugin.com//7.0.4//EN
TZID:America/Los_Angeles
X-WR-TIMEZONE:America/Los_Angeles
BEGIN:VEVENT
UID:505@communityshul.com
DTSTART;TZID=America/Los_Angeles:20211203T183000
DTEND;TZID=America/Los_Angeles:20211203T210000
DTSTAMP:20211202T034056Z
URL:https://communityshul.com/events/community-shuls-chanukah-celebration/
SUMMARY:Community Shul’s Chanukah Celebration
DESCRIPTION:This year the Community Shul’s celebration will be held\non t
 he 5th night of Chanukah at the Jewish Federation of Greater Santa Barbara
 \n524 Chapala St. Santa Barbara\, CA 93101\n\n\n\nPlease join us for candl
 e lighting\, games\, community connection and great food\, by Israeli Chef
  Shoham Yaniv from “Sababa Catering.” \nIf you love Chanukah\, if you 
 love lighting candles\, if you love great food\, including salmon\, salad\
 , latkes and jelly doughnuts (Sufganiot) you will not want to miss this gr
 eat event.\n\nSince people must take off their masks to eat and drink\, pr
 oof of vaccination for adults will be required (children will eat in the c
 ourtyard).\n\nWe will have games and art project for children and an inter
 esting adult discussion with Rabbi Arthur. We already have the decorations
  ready to go up\, dreidels ready to be spun\, and candles ready to provide
  the light of spectacular Chanukah celebration.\n\nPease bring your menora
 h!\n\nAdults $18 Children $10\n\nTo pay for 1 adult with a credit card ple
 ase click here\n\n[wpecpp name="Chanukah celebration" price=18]\n\nTo pay 
 for 2 adults with a credit card please click here\n\n[wpecpp name="Chanuka
 h celebration" price=36]\n\nTo pay for 3 adults with a credit card please 
 click here\n\n[wpecpp name="Chanukah celebration" price=54]\n\nTo pay for 
 1 Child with a credit card please click here\n\n[wpecpp name="Chanukah cel
 ebration" price=10]\n\nTo pay for 2 Children with a credit card please cli
 ck here\n\n[wpecpp name="Chanukah celebration" price=20]\n\nTo pay for 3 C
 hildren with a credit card please click here\n\n[wpecpp name="Chanukah cel
 ebration" price=30]
CATEGORIES:Celebration
LOCATION:Jewish Community Center\, 524 Chapala St \, Santa Barbara\, CA\, 
 93101\, United States
GEO:34.4166846;-119.69710520000001
X-APPLE-STRUCTURED-LOCATION;VALUE=URI;X-ADDRESS=524 Chapala St \, Santa Ba
 rbara\, CA\, 93101\, United States;X-APPLE-RADIUS=100;X-TITLE=Jewish Commu
 nity Center:geo:34.4166846,-119.69710520000001
END:VEVENT
BEGIN:VTIMEZONE
TZID:America/Los_Angeles
X-LIC-LOCATION:America/Los_Angeles
BEGIN:STANDARD
DTSTART:20211107T010000
TZOFFSETFROM:-0700
TZOFFSETTO:-0800
TZNAME:PST
END:STANDARD
END:VTIMEZONE
END:VCALENDAR