BEGIN:VCALENDAR
VERSION:2.0
PRODID:-//wp-events-plugin.com//7.0.4//EN
TZID:America/Los_Angeles
X-WR-TIMEZONE:America/Los_Angeles
BEGIN:VEVENT
UID:108@communityshul.com
DTSTART:20171008T220000Z
DTEND:20171009T000000Z
DTSTAMP:20170926T193756Z
URL:https://communityshul.com/events/community-wide-sukkoth-celebration-at
 -la-casa-de-maria/
SUMMARY:Community wide Sukkoth Celebration at La Casa de Maria
DESCRIPTION:Please bring a dairy/veggie pot luck dish – there will be sin
 ging\, dancing\, and a lot of eating.\n\n
CATEGORIES:Celebration
LOCATION:La Casa de Maria\, 800 El Bosque Rd\, Santa Barbara \, CA\, 93108\
 , United States
GEO:34.4436081;-119.62301930000001
X-APPLE-STRUCTURED-LOCATION;VALUE=URI;X-ADDRESS=800 El Bosque Rd\, Santa Ba
 rbara \, CA\, 93108\, United States;X-APPLE-RADIUS=100;X-TITLE=La Casa de 
 Maria:geo:34.4436081,-119.62301930000001
END:VEVENT
END:VCALENDAR