BEGIN:VCALENDAR
VERSION:2.0
PRODID:-//wp-events-plugin.com//7.0.4//EN
TZID:America/Los_Angeles
X-WR-TIMEZONE:America/Los_Angeles
BEGIN:VEVENT
UID:577@communityshul.com
DTSTART;TZID=America/Los_Angeles:20230605T153000
DTEND;TZID=America/Los_Angeles:20230605T173000
DTSTAMP:20220628T194944Z
URL:https://communityshul.com/events/final-day-of-religious-school-and-bna
 i-mitzvah-program/
SUMMARY:Final Day of Religious School and B'nai Mitzvah program
DESCRIPTION:Final Day - Community Shul Religious School and B'nai Mitzvah p
 rogram\nWe offer a wonderful Religious School program with small classes f
 or individualized attention. Our young children's program and B'nai Mitzva
 h program\, meet on Mondays from 3:30 to 5:30 P.M at the Bronfman Family J
 CC .\n\nTo register for Religious School Grades 1-5 please click here \n\
 nTo register for the B’nai Mitzvah Program Grades 6\, 7\, 8 please click
  here\n\nFor more information please email:  Communityshul@gmail.com or 
 call Itzik Ben Sasson Education Director\, 805.895-6593\n\n
ATTACH;FMTTYPE=image/jpeg:https://communityshul.com/wp-content/uploads/201
 6/04/IMG_3507-1-e1461007147150.jpg
CATEGORIES:Education,Religious School
LOCATION:The Jewish Federation’s Bronfman Family JCC.\, 524 Chapala St\, 
 Santa Barbara\, CA\, 93101\, United States
GEO:34.416685;-119.697105
X-APPLE-STRUCTURED-LOCATION;VALUE=URI;X-ADDRESS=524 Chapala St\, Santa Barb
 ara\, CA\, 93101\, United States;X-APPLE-RADIUS=100;X-TITLE=The Jewish Fed
 eration’s Bronfman Family JCC.:geo:34.416685,-119.697105
END:VEVENT
BEGIN:VTIMEZONE
TZID:America/Los_Angeles
X-LIC-LOCATION:America/Los_Angeles
BEGIN:DAYLIGHT
DTSTART:20230312T030000
TZOFFSETFROM:-0800
TZOFFSETTO:-0700
TZNAME:PDT
END:DAYLIGHT
END:VTIMEZONE
END:VCALENDAR