BEGIN:VCALENDAR
VERSION:2.0
PRODID:-//wp-events-plugin.com//7.0.4//EN
TZID:America/Los_Angeles
X-WR-TIMEZONE:America/Los_Angeles
BEGIN:VEVENT
UID:209@communityshul.com
DTSTART:20180924T223000Z
DTEND:20180925T000000Z
DTSTAMP:20180921T163124Z
URL:https://communityshul.com/events/fun-and-joy-in-the-sukkah/
SUMMARY:Fun and Joy in the Sukkah
DESCRIPTION:A Sukkot celebration of stories\, arts/crafts\, food and Israel
 i dancing in a joyful interfaith environment. If you were with us last yea
 r\, you’ll remember how we decorated the Sukkah\, ate great food and dan
 ced together at the Jewish Garden at La Casa de Maria.  Due to the mudsli
 des\, we will instead be meeting at the Jewish Federation and will be invi
 ting those who have been with us in the past to join us. Please make sure 
 you and your family are with us for Fun and Joy in the Sukkah at the Jewis
 h Federation.\n\n.
CATEGORIES:Celebration
LOCATION:The Jewish Federation’s Bronfman Family JCC.\, 524 Chapala St\, 
 Santa Barbara\, CA\, 93101\, United States
GEO:34.416685;-119.697105
X-APPLE-STRUCTURED-LOCATION;VALUE=URI;X-ADDRESS=524 Chapala St\, Santa Barb
 ara\, CA\, 93101\, United States;X-APPLE-RADIUS=100;X-TITLE=The Jewish Fed
 eration’s Bronfman Family JCC.:geo:34.416685,-119.697105
END:VEVENT
END:VCALENDAR