BEGIN:VCALENDAR
VERSION:2.0
PRODID:-//wp-events-plugin.com//7.0.4//EN
TZID:America/Los_Angeles
X-WR-TIMEZONE:America/Los_Angeles
BEGIN:VEVENT
UID:580@communityshul.com
DTSTART;TZID=America/Los_Angeles:20221015T130000
DTEND;TZID=America/Los_Angeles:20221015T134500
DTSTAMP:20221007T152113Z
URL:https://communityshul.com/events/kabbalah-3/
SUMMARY:Kabballah
DESCRIPTION:Join Rabbi Arthur for a Kabbalah at the Jewish Federation of Gr
 eater Santa Barbara on Saturday\, June 18 1:00 P.M. For those who like to 
 learn about our mystical tradition please join Rabbi Arthur on exploration
  of the Kabbalah and Sukkot.\n\n
CATEGORIES:Kabballah
LOCATION:The Jewish Federation’s Bronfman Family JCC.\, 524 Chapala St\, 
 Santa Barbara\, CA\, 93101\, United States
GEO:34.416685;-119.697105
X-APPLE-STRUCTURED-LOCATION;VALUE=URI;X-ADDRESS=524 Chapala St\, Santa Barb
 ara\, CA\, 93101\, United States;X-APPLE-RADIUS=100;X-TITLE=The Jewish Fed
 eration’s Bronfman Family JCC.:geo:34.416685,-119.697105
END:VEVENT
BEGIN:VTIMEZONE
TZID:America/Los_Angeles
X-LIC-LOCATION:America/Los_Angeles
BEGIN:DAYLIGHT
DTSTART:20220313T030000
TZOFFSETFROM:-0800
TZOFFSETTO:-0700
TZNAME:PDT
END:DAYLIGHT
END:VTIMEZONE
END:VCALENDAR