BEGIN:VCALENDAR
VERSION:2.0
PRODID:-//wp-events-plugin.com//7.0.4//EN
TZID:America/Los_Angeles
X-WR-TIMEZONE:America/Los_Angeles
BEGIN:VEVENT
UID:513@communityshul.com
DTSTART;TZID=America/Los_Angeles:20220108T130000
DTEND;TZID=America/Los_Angeles:20220108T140000
DTSTAMP:20211220T232242Z
URL:https://communityshul.com/events/kabbalah-and-jewish-ethics-4/
SUMMARY:Kabbalah and Jewish Ethics
DESCRIPTION:Kabbalah and Jewish Ethics at the Jewish Federation of Greater
  Santa Barbara. For those who like to learn about our mystical tradition p
 lease join Rabbi Arthur on exploration of the Kabbalah and Jewish Ethics.\
 nThe service will take place indoors masks and proof of vaccination will 
 be required !\n.
LOCATION:The Jewish Federation’s Bronfman Family JCC.\, 524 Chapala St\, 
 Santa Barbara\, CA\, 93101\, United States
GEO:34.416685;-119.697105
X-APPLE-STRUCTURED-LOCATION;VALUE=URI;X-ADDRESS=524 Chapala St\, Santa Barb
 ara\, CA\, 93101\, United States;X-APPLE-RADIUS=100;X-TITLE=The Jewish Fed
 eration’s Bronfman Family JCC.:geo:34.416685,-119.697105
END:VEVENT
BEGIN:VTIMEZONE
TZID:America/Los_Angeles
X-LIC-LOCATION:America/Los_Angeles
BEGIN:STANDARD
DTSTART:20211107T010000
TZOFFSETFROM:-0700
TZOFFSETTO:-0800
TZNAME:PST
END:STANDARD
END:VTIMEZONE
END:VCALENDAR