BEGIN:VCALENDAR
VERSION:2.0
PRODID:-//wp-events-plugin.com//7.0.4//EN
TZID:America/Los_Angeles
X-WR-TIMEZONE:America/Los_Angeles
BEGIN:VEVENT
UID:515@communityshul.com
DTSTART;TZID=America/Los_Angeles:20220402T130000
DTEND;TZID=America/Los_Angeles:20220402T140000
DTSTAMP:20220322T020348Z
URL:https://communityshul.com/events/kabbalah-and-jewish-ethics-6/
SUMMARY:Kabbalah and Jewish Ethics
DESCRIPTION:Kabbalah and Jewish Ethics at the Jewish Federation of Greater
  Santa Barbara. For those who like to learn about our mystical tradition p
 lease join Rabbi Arthur on exploration of the Kabbalah and Jewish Ethics.\
 n\n.
CATEGORIES:Kabballah
LOCATION:The Jewish Federation’s Bronfman Family JCC.\, 524 Chapala St\, 
 Santa Barbara\, CA\, 93101\, United States
GEO:34.416685;-119.697105
X-APPLE-STRUCTURED-LOCATION;VALUE=URI;X-ADDRESS=524 Chapala St\, Santa Barb
 ara\, CA\, 93101\, United States;X-APPLE-RADIUS=100;X-TITLE=The Jewish Fed
 eration’s Bronfman Family JCC.:geo:34.416685,-119.697105
END:VEVENT
BEGIN:VTIMEZONE
TZID:America/Los_Angeles
X-LIC-LOCATION:America/Los_Angeles
BEGIN:DAYLIGHT
DTSTART:20220313T030000
TZOFFSETFROM:-0800
TZOFFSETTO:-0700
TZNAME:PDT
END:DAYLIGHT
END:VTIMEZONE
END:VCALENDAR