BEGIN:VCALENDAR
VERSION:2.0
PRODID:-//wp-events-plugin.com//7.0.4//EN
TZID:America/Los_Angeles
X-WR-TIMEZONE:America/Los_Angeles
BEGIN:VEVENT
UID:502@communityshul.com
DTSTART;TZID=America/Los_Angeles:20211024T150000
DTEND;TZID=America/Los_Angeles:20211024T160000
DTSTAMP:20211020T014451Z
URL:https://communityshul.com/events/kabbalah-and-jewish-ethics/
SUMMARY:Kabbalah and Jewish Ethics
DESCRIPTION:Kabbalah and Jewish Ethics at the Jewish Federation of Greater 
 Santa Barbara. For those who like to learn about our mystical tradition pl
 ease join Rabbi Arthur on exploration of the Kabbalah and Jewish Ethics. 
 Sunday\, Oct. 24th 3:00 P.M. \n\n
LOCATION:Rabbi Arthur's home\, 4598 Camino Molinero\, Santa Barbara\, CA\, 
 93110\, United States
GEO:34.454977;-119.780821
X-APPLE-STRUCTURED-LOCATION;VALUE=URI;X-ADDRESS=4598 Camino Molinero\, Sant
 a Barbara\, CA\, 93110\, United States;X-APPLE-RADIUS=100;X-TITLE=Rabbi Ar
 thur's home:geo:34.454977,-119.780821
END:VEVENT
BEGIN:VTIMEZONE
TZID:America/Los_Angeles
X-LIC-LOCATION:America/Los_Angeles
BEGIN:DAYLIGHT
DTSTART:20210314T030000
TZOFFSETFROM:-0800
TZOFFSETTO:-0700
TZNAME:PDT
END:DAYLIGHT
END:VTIMEZONE
END:VCALENDAR