BEGIN:VCALENDAR
VERSION:2.0
PRODID:-//wp-events-plugin.com//7.0.4//EN
TZID:America/Los_Angeles
X-WR-TIMEZONE:America/Los_Angeles
BEGIN:VEVENT
UID:578@communityshul.com
DTSTART;TZID=America/Los_Angeles:20220917T130000
DTEND;TZID=America/Los_Angeles:20220917T134500
DTSTAMP:20220916T201124Z
URL:https://communityshul.com/events/kabbalah-preparation-for-the-high-hol
 idays/
SUMMARY:Kabbalah - preparation for the High Holidays
DESCRIPTION:Please join Rabbi Arthur on at the Jewish Federation building T
 he Rabbi will be teaching for 45 minutes Kabbalistic concepts for the High
  Holidays\, this is our attempt to give the opportunity and the tools to m
 ake these holidays even better.
CATEGORIES:Kabballah
LOCATION:Bronfman Family Jewish Community Center\, 524 Chapala Street\, \, 
 Santa Barbara\, \, CA \, 93101\, United States
GEO:34.4166846;-119.69710520000001
X-APPLE-STRUCTURED-LOCATION;VALUE=URI;X-ADDRESS=524 Chapala Street\, \, San
 ta Barbara\, \, CA \, 93101\, United States;X-APPLE-RADIUS=100;X-TITLE=Bro
 nfman Family Jewish Community Center:geo:34.4166846,-119.69710520000001
END:VEVENT
BEGIN:VTIMEZONE
TZID:America/Los_Angeles
X-LIC-LOCATION:America/Los_Angeles
BEGIN:DAYLIGHT
DTSTART:20220313T030000
TZOFFSETFROM:-0800
TZOFFSETTO:-0700
TZNAME:PDT
END:DAYLIGHT
END:VTIMEZONE
END:VCALENDAR