BEGIN:VCALENDAR
VERSION:2.0
PRODID:-//wp-events-plugin.com//7.0.4//EN
TZID:America/Los_Angeles
X-WR-TIMEZONE:America/Los_Angeles
BEGIN:VEVENT
UID:382@communityshul.com
DTSTART:20190907T200000Z
DTEND:20190907T200000Z
DTSTAMP:20190808T192030Z
URL:https://communityshul.com/events/kabbalah-study-2/
SUMMARY:Kabbalah Study
DESCRIPTION:Kabbalah Study at the home of Rabbi Arthur. Rabbi Arthur facili
 tates this monthly Kabbalah gathering at his home which always begins wit
 h bagels\, cream cheese\, orange juice\, tea and coffee.\nNo experience wi
 th Kabbalah is required.\n
CATEGORIES:Kabballah
LOCATION:Rabbi Arthur's home\, 4598 Camino Molinero\, Santa Barbara\, CA\, 
 93110\, United States
GEO:34.454977;-119.780821
X-APPLE-STRUCTURED-LOCATION;VALUE=URI;X-ADDRESS=4598 Camino Molinero\, Sant
 a Barbara\, CA\, 93110\, United States;X-APPLE-RADIUS=100;X-TITLE=Rabbi Ar
 thur's home:geo:34.454977,-119.780821
END:VEVENT
END:VCALENDAR