BEGIN:VCALENDAR
VERSION:2.0
PRODID:-//wp-events-plugin.com//7.0.4//EN
TZID:America/Los_Angeles
X-WR-TIMEZONE:America/Los_Angeles
BEGIN:VEVENT
UID:384@communityshul.com
DTSTART:20191116T200000Z
DTEND:20191116T210000Z
DTSTAMP:20191101T160807Z
URL:https://communityshul.com/events/kabbalah-study-3/
SUMMARY:Kabbalah Study
DESCRIPTION:Please join a Kabbalah study on Saturday\, November 16 1:00 
 p.m. Rabbi Arthur facilitates this monthly gathering at his home with a li
 ght lunch at 12\;30 p.m.\n\nNo experience with Kabbalah is required.\n
LOCATION:Rabbi Arthur's home\, 4598 Camino Molinero\, Santa Barbara\, CA\, 
 93110\, United States
GEO:34.454977;-119.780821
X-APPLE-STRUCTURED-LOCATION;VALUE=URI;X-ADDRESS=4598 Camino Molinero\, Sant
 a Barbara\, CA\, 93110\, United States;X-APPLE-RADIUS=100;X-TITLE=Rabbi Ar
 thur's home:geo:34.454977,-119.780821
END:VEVENT
END:VCALENDAR