BEGIN:VCALENDAR
VERSION:2.0
PRODID:-//wp-events-plugin.com//7.0.4//EN
TZID:America/Los_Angeles
X-WR-TIMEZONE:America/Los_Angeles
BEGIN:VEVENT
UID:385@communityshul.com
DTSTART:20200111T200000Z
DTEND:20200111T210000Z
DTSTAMP:20200109T224229Z
URL:https://communityshul.com/events/kabbalah-study-4/
SUMMARY:Jewish meditation and Kabbalah study
DESCRIPTION:Please join a Jewish meditation with Renee Golan and Kabbalah s
 tudy with Rabbi Arthur on Saturday\, November 11 1:00 p.m. Rabbi Arthur fa
 cilitates this monthly gathering at his home with a light lunch at 12:30 p
 .m\n\n
CATEGORIES:Kabballah
LOCATION:Rabbi Arthur's home\, 4598 Camino Molinero\, Santa Barbara\, CA\, 
 93110\, United States
GEO:34.454977;-119.780821
X-APPLE-STRUCTURED-LOCATION;VALUE=URI;X-ADDRESS=4598 Camino Molinero\, Sant
 a Barbara\, CA\, 93110\, United States;X-APPLE-RADIUS=100;X-TITLE=Rabbi Ar
 thur's home:geo:34.454977,-119.780821
END:VEVENT
END:VCALENDAR