BEGIN:VCALENDAR
VERSION:2.0
PRODID:-//wp-events-plugin.com//7.0.4//EN
TZID:America/Los_Angeles
X-WR-TIMEZONE:America/Los_Angeles
BEGIN:VEVENT
UID:455@communityshul.com
DTSTART;TZID=America/Los_Angeles:20210522T160000
DTEND;TZID=America/Los_Angeles:20210522T170000
DTSTAMP:20210519T004805Z
URL:https://communityshul.com/events/kabbalah-with-meditation-online-3/
SUMMARY: In Person Kabbalah with meditation
DESCRIPTION:For those who like to learn more about Jewish mystical traditio
 n and meditation\, please join Rabbi Arthur next **Saturday\, May 22 at 4:
 00 P.M**. for an exploration of the Kabbalah and meditation.\n\nThis event
  take place at the Rabbi's backyard 4598 Camino Molinero Santa Barbara\, C
 A 93110\n\nPLEASE WEAR FACE MASK\n\n**No experience with Kabbalah is requi
 red**
CATEGORIES:Kabballah
LOCATION:Rabbi Arthur's home\, 4598 Camino Molinero\, Santa Barbara\, CA\, 
 93110\, United States
GEO:34.454977;-119.780821
X-APPLE-STRUCTURED-LOCATION;VALUE=URI;X-ADDRESS=4598 Camino Molinero\, Sant
 a Barbara\, CA\, 93110\, United States;X-APPLE-RADIUS=100;X-TITLE=Rabbi Ar
 thur's home:geo:34.454977,-119.780821
END:VEVENT
BEGIN:VTIMEZONE
TZID:America/Los_Angeles
X-LIC-LOCATION:America/Los_Angeles
BEGIN:DAYLIGHT
DTSTART:20210314T030000
TZOFFSETFROM:-0800
TZOFFSETTO:-0700
TZNAME:PDT
END:DAYLIGHT
END:VTIMEZONE
END:VCALENDAR