BEGIN:VCALENDAR
VERSION:2.0
PRODID:-//wp-events-plugin.com//7.0.4//EN
TZID:America/Los_Angeles
X-WR-TIMEZONE:America/Los_Angeles
BEGIN:VEVENT
UID:456@communityshul.com
DTSTART;TZID=America/Los_Angeles:20210320T160000
DTEND;TZID=America/Los_Angeles:20210320T170000
DTSTAMP:20210301T180034Z
URL:https://communityshul.com/events/kabbalah-with-meditation-online-4/
SUMMARY: Kabbalah with meditation online
DESCRIPTION:Please join Rabbi Arthur and Renee for an exploration of the Ka
 bbalah and meditation\,
CATEGORIES:Kabballah
END:VEVENT
BEGIN:VTIMEZONE
TZID:America/Los_Angeles
X-LIC-LOCATION:America/Los_Angeles
BEGIN:DAYLIGHT
DTSTART:20210314T030000
TZOFFSETFROM:-0800
TZOFFSETTO:-0700
TZNAME:PDT
END:DAYLIGHT
END:VTIMEZONE
END:VCALENDAR