BEGIN:VCALENDAR
VERSION:2.0
PRODID:-//wp-events-plugin.com//7.0.4//EN
TZID:America/Los_Angeles
X-WR-TIMEZONE:America/Los_Angeles
BEGIN:VEVENT
UID:453@communityshul.com
DTSTART;TZID=America/Los_Angeles:20210227T160000
DTEND;TZID=America/Los_Angeles:20210227T170000
DTSTAMP:20201230T211517Z
URL:https://communityshul.com/events/kabbalah-with-meditation-online/
SUMMARY: Kabbalah with meditation online
DESCRIPTION:Please join Rabbi Arthur and Renee for an exploration of the Ka
 bbalah and meditation\,
CATEGORIES:Kabballah
END:VEVENT
BEGIN:VTIMEZONE
TZID:America/Los_Angeles
X-LIC-LOCATION:America/Los_Angeles
BEGIN:STANDARD
DTSTART:20201101T010000
TZOFFSETFROM:-0700
TZOFFSETTO:-0800
TZNAME:PST
END:STANDARD
END:VTIMEZONE
END:VCALENDAR