BEGIN:VCALENDAR
VERSION:2.0
PRODID:-//wp-events-plugin.com//7.0.4//EN
TZID:America/Los_Angeles
X-WR-TIMEZONE:America/Los_Angeles
BEGIN:VEVENT
UID:180@communityshul.com
DTSTART;TZID=America/Los_Angeles:20180407T130000
DTEND;TZID=America/Los_Angeles:20180407T140000
DTSTAMP:20180404T155814Z
URL:https://communityshul.com/events/kabbalah-with-rabbi-arthur-10/
SUMMARY:Join Rabbi Arthur and Intern Debi Lewis for a conversation about As
 sisted Suicide
DESCRIPTION:\nAssisted Suicide\nWhat does Jewish Law have to say about this
  topic and what are the laws in California?\nJoin us on April the 7th for 
 a discussion about this important topic.\n
CATEGORIES:Kabballah
LOCATION:Rabbi Arthur's home\, 4598 Camino Molinero\, Santa Barbara\, CA\, 
 93110\, United States
GEO:34.454977;-119.780821
X-APPLE-STRUCTURED-LOCATION;VALUE=URI;X-ADDRESS=4598 Camino Molinero\, Sant
 a Barbara\, CA\, 93110\, United States;X-APPLE-RADIUS=100;X-TITLE=Rabbi Ar
 thur's home:geo:34.454977,-119.780821
END:VEVENT
BEGIN:VTIMEZONE
TZID:America/Los_Angeles
X-LIC-LOCATION:America/Los_Angeles
BEGIN:DAYLIGHT
DTSTART:20180311T030000
TZOFFSETFROM:-0800
TZOFFSETTO:-0700
TZNAME:PDT
END:DAYLIGHT
END:VTIMEZONE
END:VCALENDAR