BEGIN:VCALENDAR
VERSION:2.0
PRODID:-//wp-events-plugin.com//7.0.4//EN
TZID:America/Los_Angeles
X-WR-TIMEZONE:America/Los_Angeles
BEGIN:VEVENT
UID:89@communityshul.com
DTSTART:20171104T200000Z
DTEND:20171104T210000Z
DTSTAMP:20171026T170814Z
URL:https://communityshul.com/events/kabbalah-with-rabbi-arthur-5/
SUMMARY:Kabbalah with Rabbi Arthur
DESCRIPTION:Rabbi Arthur facilitates this monthly gathering which always be
 gins with bagels\, cream cheese\, orange juice\, tea and coffee. Guest sch
 olars are often invited\, and a yearly retreat is offered to enrich and op
 en up this most stimulating mystical tradition.\nThis monthly gathering wi
 ll take place at the Social Room of Valle Verde Retirement Community\, loc
 ated at  Valle Verde  900 Calle de los Amigos\, Santa Barbara\, CA 93105
 \nNo experience with Kabbalah is required!!\n
CATEGORIES:Kabballah
LOCATION:Valle Verde\, 900 Calle de los Amigos\, Santa Barbara\, CA\, 93105
 \, United States
GEO:34.4242457;-119.75135929999999
X-APPLE-STRUCTURED-LOCATION;VALUE=URI;X-ADDRESS=900 Calle de los Amigos\, S
 anta Barbara\, CA\, 93105\, United States;X-APPLE-RADIUS=100;X-TITLE=Valle
  Verde:geo:34.4242457,-119.75135929999999
END:VEVENT
END:VCALENDAR