BEGIN:VCALENDAR
VERSION:2.0
PRODID:-//wp-events-plugin.com//7.0.4//EN
TZID:America/Los_Angeles
X-WR-TIMEZONE:America/Los_Angeles
BEGIN:VEVENT
UID:94@communityshul.com
DTSTART:20180415T010000Z
DTEND:20180415T043000Z
DTSTAMP:20180402T174539Z
URL:https://communityshul.com/events/kabbalah-with-rabbi-arthur-8/
SUMMARY:Kabbalah with Rabbi Ellen Bernstein
DESCRIPTION:Kabbalah And the Environmental Wisdom of Song of Songs\n\nRabbi
  Ellen Bernstein founded Shomrei Adamah\, Keepers of the Earth\, the first
  national Jewish environmental organization in 1988. She has been dubbed t
 he " birthmother of the Jewish environmental movement" and "a pioneering t
 hinker who helped define modern Jewish environmentalism." She was a featur
 ed speaker at the Religions for the Earth conference and the final ceremon
 y of the 2014 Peoples' Climate March. She is author/editor of: Let the Ear
 th Teach You Torah (1992)\, Ecology &amp\; the Jewish Spirit (1998) and Th
 e Splendor of Creation (2006). She created the first ecological haggadah f
 or Tu B’Sh’vat\, and has popularized Tu B'Sh'vat as an ecological fest
 ival through large-scale inter-spiritual Tu B'Sh'vat arts seders. Her most
  recent work\, The Promise of the Land haggadah will be published by Behrm
 an House in Feb.\, 2019. Currently she writes and speaks about the ecologi
 cal dimensions of the Hebrew Bible and is a spiritual advisor at Hampshire
  College.\n6:00 p.m potluck dinner\, please bring a veggie/fish entree\,
  or side dish (rice\, salad\, pasta\, etc\,.) followed by Havdalah and wo
 nderful evening of learning.\n\n\n\n\n\n\n\n\n\n\n\n1\n\n\n\n\n($10/person
 )\n1 Ticket [wpecpp name=" 1 " price="10"]\n2 Tickets [wpecpp name="2 tick
 ets" " price="20"]\n\n\n\n\n\n\n\n\n\n\n\n\n\n\n\n\n\n\n\n\n\n\n\n\n\n\n&n
 bsp\;\n\n&nbsp\;\n\n&nbsp\;
CATEGORIES:Kabballah
LOCATION:Rabbi Arthur's home\, 4598 Camino Molinero\, Santa Barbara\, CA\, 
 93110\, United States
GEO:34.454977;-119.780821
X-APPLE-STRUCTURED-LOCATION;VALUE=URI;X-ADDRESS=4598 Camino Molinero\, Sant
 a Barbara\, CA\, 93110\, United States;X-APPLE-RADIUS=100;X-TITLE=Rabbi Ar
 thur's home:geo:34.454977,-119.780821
END:VEVENT
END:VCALENDAR