BEGIN:VCALENDAR
VERSION:2.0
PRODID:-//wp-events-plugin.com//7.0.4//EN
TZID:America/Los_Angeles
X-WR-TIMEZONE:America/Los_Angeles
BEGIN:VEVENT
UID:95@communityshul.com
DTSTART:20180505T200000Z
DTEND:20180505T210000Z
DTSTAMP:20180411T171038Z
URL:https://communityshul.com/events/kabbalah-with-rabbi-arthur-9/
SUMMARY:Kabbalah with Rabbi Arthur
DESCRIPTION:Rabbi Arthur facilitates this monthly gathering at his home whi
 ch always begins with bagels\, cream cheese\, orange juice\, tea and coffe
 e. Guest scholars are often invited\, and a yearly retreat is offered to e
 nrich and open up this most stimulating mystical tradition.No experience w
 ith Kabbalah is required\n
END:VEVENT
END:VCALENDAR