BEGIN:VCALENDAR
VERSION:2.0
PRODID:-//wp-events-plugin.com//7.0.4//EN
TZID:America/Los_Angeles
X-WR-TIMEZONE:America/Los_Angeles
BEGIN:VEVENT
UID:266@communityshul.com
DTSTART:20190406T200000Z
DTEND:20190406T210000Z
DTSTAMP:20181225T191118Z
URL:https://communityshul.com/events/monthly-kabbalah-study-8/
SUMMARY:Monthly Kabbalah Study
DESCRIPTION:Rabbi Arthur facilitates this monthly gathering at his home whi
 ch always begins with bagels\, cream cheese\, orange juice\, tea and coffe
 e.   No experience with Kabbalah is required.\n\n
CATEGORIES:Kabballah
LOCATION:Rabbi Arthur's home\, 4598 Camino Molinero\, Santa Barbara\, CA\, 
 93110\, United States
GEO:34.454977;-119.780821
X-APPLE-STRUCTURED-LOCATION;VALUE=URI;X-ADDRESS=4598 Camino Molinero\, Sant
 a Barbara\, CA\, 93110\, United States;X-APPLE-RADIUS=100;X-TITLE=Rabbi Ar
 thur's home:geo:34.454977,-119.780821
END:VEVENT
END:VCALENDAR