BEGIN:VCALENDAR
VERSION:2.0
PRODID:-//wp-events-plugin.com//7.0.4//EN
TZID:America/Los_Angeles
X-WR-TIMEZONE:America/Los_Angeles
BEGIN:VEVENT
UID:364@communityshul.com
DTSTART;TZID=America/Los_Angeles:20220117T153000
DTEND;TZID=America/Los_Angeles:20220117T153000
DTSTAMP:20210601T193739Z
URL:https://communityshul.com/events/no-religious-school-mlk/
SUMMARY:NO Religious School  MLK
DESCRIPTION:
END:VEVENT
BEGIN:VTIMEZONE
TZID:America/Los_Angeles
X-LIC-LOCATION:America/Los_Angeles
BEGIN:STANDARD
DTSTART:20211107T010000
TZOFFSETFROM:-0700
TZOFFSETTO:-0800
TZNAME:PST
END:STANDARD
END:VTIMEZONE
END:VCALENDAR