BEGIN:VCALENDAR
VERSION:2.0
PRODID:-//wp-events-plugin.com//7.0.4//EN
TZID:America/Los_Angeles
X-WR-TIMEZONE:America/Los_Angeles
BEGIN:VEVENT
UID:362@communityshul.com
DTSTART:20200330T070000Z
DTEND:20200330T070000Z
DTSTAMP:20190520T182539Z
URL:https://communityshul.com/events/no-religious-school-spring-break-5/
SUMMARY:No Religious School - Spring Break
DESCRIPTION:
END:VEVENT
END:VCALENDAR