BEGIN:VCALENDAR
VERSION:2.0
PRODID:-//wp-events-plugin.com//7.0.4//EN
TZID:America/Los_Angeles
X-WR-TIMEZONE:America/Los_Angeles
BEGIN:VEVENT
UID:335@communityshul.com
DTSTART:20191014T223000Z
DTEND:20191014T223000Z
DTSTAMP:20190516T171927Z
URL:https://communityshul.com/events/no-religious-school-sukkot/
SUMMARY:No Religious School Sukkot
DESCRIPTION:
END:VEVENT
END:VCALENDAR