BEGIN:VCALENDAR
VERSION:2.0
PRODID:-//wp-events-plugin.com//7.0.4//EN
TZID:America/Los_Angeles
X-WR-TIMEZONE:America/Los_Angeles
BEGIN:VEVENT
UID:285@communityshul.com
DTSTART:20181028T223000Z
DTEND:20181029T003000Z
DTSTAMP:20181015T181956Z
URL:https://communityshul.com/events/open-house-our-community-in-montecito
 -with-the-first-responders/
SUMMARY:Open House for our community in Montecito with the first responders
DESCRIPTION:Our first such open house with the first responders will be at 
 the home of Paul and Beverly Weiss on October 28th. We will gather at the 
 Weiss’ beautiful home between 3:30 and 5:30. Please RSVP if you plan to
  come and we’ll send you back the directions.
CATEGORIES:Celebration
END:VEVENT
END:VCALENDAR