BEGIN:VCALENDAR
VERSION:2.0
PRODID:-//wp-events-plugin.com//7.0.4//EN
TZID:America/Los_Angeles
X-WR-TIMEZONE:America/Los_Angeles
BEGIN:VEVENT
UID:521@communityshul.com
DTSTART;TZID=America/Los_Angeles:20230405T180000
DTEND;TZID=America/Los_Angeles:20230405T203000
DTSTAMP:20230321T022747Z
URL:https://communityshul.com/events/passover-community-first-night-seder-
 5/
SUMMARY:First Night Community Passover Seder
DESCRIPTION:A fabulous 1st Night Community Passover Seder led by Rabbi Arth
 ur Gross-Schaefer\, at the\n"All Saints-By-the -Sea" Episcopal Church 83 E
 ucalyptus Ln\, Montecito CA 93108\n\n\nA Great Tasty Seder – Excellent F
 ood from Matzo Ball soup and salad to roasted chicken \, fish or vegetaria
 n dishes.\n\n\n&nbsp\;\n\n
CATEGORIES:Celebration
END:VEVENT
BEGIN:VTIMEZONE
TZID:America/Los_Angeles
X-LIC-LOCATION:America/Los_Angeles
BEGIN:DAYLIGHT
DTSTART:20230312T030000
TZOFFSETFROM:-0800
TZOFFSETTO:-0700
TZNAME:PDT
END:DAYLIGHT
END:VTIMEZONE
END:VCALENDAR