BEGIN:VCALENDAR
VERSION:2.0
PRODID:-//wp-events-plugin.com//7.0.4//EN
TZID:America/Los_Angeles
X-WR-TIMEZONE:America/Los_Angeles
BEGIN:VEVENT
UID:372@communityshul.com
DTSTART:20200410T010000Z
DTEND:20200410T033000Z
DTSTAMP:20200319T222742Z
URL:https://communityshul.com/events/passover-community-second-night-seder
 -3/
SUMMARY:Passover – Community second night Seder -CANCELLED -
DESCRIPTION:Passover Seder - CANCELLED -\n\n\n\n&nbsp\;
CATEGORIES:Celebration
LOCATION:The Jewish Federation’s Bronfman Family JCC.\, 524 Chapala St\, 
 Santa Barbara\, CA\, 93101\, United States
GEO:34.416685;-119.697105
X-APPLE-STRUCTURED-LOCATION;VALUE=URI;X-ADDRESS=524 Chapala St\, Santa Barb
 ara\, CA\, 93101\, United States;X-APPLE-RADIUS=100;X-TITLE=The Jewish Fed
 eration’s Bronfman Family JCC.:geo:34.416685,-119.697105
END:VEVENT
END:VCALENDAR