BEGIN:VCALENDAR
VERSION:2.0
PRODID:-//wp-events-plugin.com//7.0.4//EN
TZID:America/Los_Angeles
X-WR-TIMEZONE:America/Los_Angeles
BEGIN:VEVENT
UID:435@communityshul.com
DTSTART;TZID=America/Los_Angeles:20210328T180000
DTEND;TZID=America/Los_Angeles:20210328T193000
DTSTAMP:20210322T195014Z
URL:https://communityshul.com/events/passover-community-second-night-seder
 -4/
SUMMARY:Passover – Community second night Seder Online 
DESCRIPTION:A fabulous 2nd Night Virtual Seder led by Rabbi Arthur Gross-Sc
 haefer .\n\n**Preparing for the Seder**\n(ONLY IF YOU WISH).\nThe table sh
 ould be set with the following special items.\nThe Seder plate\, which con
 tains\, in clockwise order: Shank bone –Zeroa – lamb or roasted chicke
 n leg bone (a roasted beet is a vegetarian alternative) Charoset – a mix
 ture of nuts\, fruit\, wine\, and spices Bitter herbs – Maror – typica
 lly red or white horseradish (some people prefer raw horseradish) Vegetabl
 e – Karpas – parsley or any other vegetable\, such as potatoes Egg –
  Beitzah – a roasted hard-boiled egg• A covered plate that holds three
  pieces of matzah.\n• A bowl of salt water.\n• A wine glass for each p
 erson. Each participant will drink four cups of kosher wine or grape juice
  during the Seder.\n• An extra wine glass for Elijah the Prophet.\nThe S
 eder meal should be prepared and conducted without bread or other leavened
  food such as cake. Products made with matzah flour can be substituted.\nT
 o join the Zoom Meeting please click here \nMeeting ID: 862 0633 7977\nPa
 sscode: 941590
CATEGORIES:Celebration
END:VEVENT
BEGIN:VTIMEZONE
TZID:America/Los_Angeles
X-LIC-LOCATION:America/Los_Angeles
BEGIN:DAYLIGHT
DTSTART:20210314T030000
TZOFFSETFROM:-0800
TZOFFSETTO:-0700
TZNAME:PDT
END:DAYLIGHT
END:VTIMEZONE
END:VCALENDAR