BEGIN:VCALENDAR
VERSION:2.0
PRODID:-//wp-events-plugin.com//7.0.4//EN
TZID:America/Los_Angeles
X-WR-TIMEZONE:America/Los_Angeles
BEGIN:VEVENT
UID:109@communityshul.com
DTSTART:20180401T010000Z
DTEND:20180401T040000Z
DTSTAMP:20180326T173851Z
URL:https://communityshul.com/events/passover-community-second-night-seder
 /
SUMMARY:Passover – Community second night Seder
DESCRIPTION:A fabulous 2nd Night Seder led by Rabbi Arthur Gross-Schaefe
 r\, at the Jewish Community Center 524 Chapala St\, Santa Barbara\, CA 9
 3101. A Great Tasty Seder – Excellent Food from Matzo Ball soup and sa
 lad to roasted chicken and vegetarian dishes.\n\n\n\n&nbsp\;
CATEGORIES:Celebration
LOCATION:The Jewish Federation’s Bronfman Family JCC.\, 524 Chapala St\, 
 Santa Barbara\, CA\, 93101\, United States
GEO:34.416685;-119.697105
X-APPLE-STRUCTURED-LOCATION;VALUE=URI;X-ADDRESS=524 Chapala St\, Santa Barb
 ara\, CA\, 93101\, United States;X-APPLE-RADIUS=100;X-TITLE=The Jewish Fed
 eration’s Bronfman Family JCC.:geo:34.416685,-119.697105
END:VEVENT
END:VCALENDAR