BEGIN:VCALENDAR
VERSION:2.0
PRODID:-//wp-events-plugin.com//7.0.4//EN
TZID:America/Los_Angeles
X-WR-TIMEZONE:America/Los_Angeles
BEGIN:VEVENT
UID:497@communityshul.com
DTSTART;TZID=America/Los_Angeles:20210618T180000
DTEND;TZID=America/Los_Angeles:20210618T183000
DTSTAMP:20210603T161801Z
URL:https://communityshul.com/events/pre-shabbat-kabbalat-shabbat-on-zoom-
 2/
SUMMARY:Pre-Shabbat / Kabbalat Shabbat on Zoom
DESCRIPTION:Join Rabbi Arthur **Friday\, June 18 at 6:00 P.M.** for Pre-Sha
 bbat Zoom meeting – a thirty minutes time together to bring the Shabbat 
 with singing\, a story\, a brief teaching and blessings. To make it a more
  special family event\, set up your table with two candles\, matches\, a c
 up of juice/wine\, Challah and honey.\n\nShabbat is a time for families to
  gather\, to celebrate Shabbat and the family!\n\nTo join the meeting clic
 k here\n\nMeeting ID: 884 5603 1409\nPasscode: 058676
CATEGORIES:Shabbat Service
END:VEVENT
BEGIN:VTIMEZONE
TZID:America/Los_Angeles
X-LIC-LOCATION:America/Los_Angeles
BEGIN:DAYLIGHT
DTSTART:20210314T030000
TZOFFSETFROM:-0800
TZOFFSETTO:-0700
TZNAME:PDT
END:DAYLIGHT
END:VTIMEZONE
END:VCALENDAR