BEGIN:VCALENDAR
VERSION:2.0
PRODID:-//wp-events-plugin.com//7.0.4//EN
TZID:America/Los_Angeles
X-WR-TIMEZONE:America/Los_Angeles
BEGIN:VEVENT
UID:517@communityshul.com
DTSTART;TZID=America/Los_Angeles:20220114T173000
DTEND;TZID=America/Los_Angeles:20220114T180000
DTSTAMP:20211206T191647Z
URL:https://communityshul.com/events/pre-shabbat-kabbalat-shabbat-on-zoom-
 3/
SUMMARY:Pre-Shabbat / Kabbalat Shabbat on Zoom
DESCRIPTION:Join Rabbi Arthur **Friday\, June 4 at 6:00 P.M.** for Pre-Shab
 bat Zoom meeting – a thirty minutes time together to bring the Shabbat w
 ith singing\, a story\, a brief teaching and blessings. To make it a more 
 special family event\, set up your table with two candles\, matches\, a cu
 p of juice/wine\, Challah and honey.\n\nShabbat is a time for families to 
 gather\, to celebrate Shabbat and the family!\n\nTo join the meeting click
  here\n\nMeeting ID: 884 5603 1409\nPasscode: 058676
CATEGORIES:Shabbat Service
LOCATION:Jewish Community Center\, 524 Chapala St \, Santa Barbara\, CA\, 
 93101\, United States
GEO:34.4166846;-119.69710520000001
X-APPLE-STRUCTURED-LOCATION;VALUE=URI;X-ADDRESS=524 Chapala St \, Santa Ba
 rbara\, CA\, 93101\, United States;X-APPLE-RADIUS=100;X-TITLE=Jewish Commu
 nity Center:geo:34.4166846,-119.69710520000001
END:VEVENT
BEGIN:VTIMEZONE
TZID:America/Los_Angeles
X-LIC-LOCATION:America/Los_Angeles
BEGIN:STANDARD
DTSTART:20211107T010000
TZOFFSETFROM:-0700
TZOFFSETTO:-0800
TZNAME:PST
END:STANDARD
END:VTIMEZONE
END:VCALENDAR