BEGIN:VCALENDAR
VERSION:2.0
PRODID:-//wp-events-plugin.com//7.0.4//EN
TZID:America/Los_Angeles
X-WR-TIMEZONE:America/Los_Angeles
BEGIN:VEVENT
UID:522@communityshul.com
DTSTART;TZID=America/Los_Angeles:20220211T173000
DTEND;TZID=America/Los_Angeles:20220211T180000
DTSTAMP:20220207T182900Z
URL:https://communityshul.com/events/pre-shabbat-on-zoom/
SUMMARY:Pre-Shabbat on Zoom
DESCRIPTION:Join Rabbi Arthur Friday\, Feb 11 at 5:30 P.M. for Pre-Shabba
 t Zoom meeting – a thirty minutes time together to bring the Shabbat wit
 h singing\, a story\, a brief teaching and blessings. To make it a more sp
 ecial family event\, set up your table with two candles\, matches\, a cup 
 of juice/wine\, Challah and honey.\n\nShabbat is a time for families to ga
 ther\, to celebrate Shabbat and the family!\nTo join the meeting click her
 e\nMeeting ID: 884 5603 1409\nPasscode: 058676
CATEGORIES:Celebration
END:VEVENT
BEGIN:VTIMEZONE
TZID:America/Los_Angeles
X-LIC-LOCATION:America/Los_Angeles
BEGIN:STANDARD
DTSTART:20211107T010000
TZOFFSETFROM:-0700
TZOFFSETTO:-0800
TZNAME:PST
END:STANDARD
END:VTIMEZONE
END:VCALENDAR