BEGIN:VCALENDAR
VERSION:2.0
PRODID:-//wp-events-plugin.com//7.0.4//EN
TZID:America/Los_Angeles
X-WR-TIMEZONE:America/Los_Angeles
BEGIN:VEVENT
UID:439@communityshul.com
DTSTART;TZID=America/Los_Angeles:20210122T173000
DTEND;TZID=America/Los_Angeles:20210122T173000
DTSTAMP:20210111T234832Z
URL:https://communityshul.com/events/pre-shabbat-zoom-meeting-2/
SUMMARY:Pre - Shabbat Zoom Meeting
DESCRIPTION:Topic: Pre – Shabbat Zoom Meeting\n\nJoin Rabbi Arthur for th
 e Pre-Shabbat Zoom meeting – it's thirty minutes where we join to bring 
 in the Shabbat with singing\, a story\, a little teaching and then the ble
 ssings. To make it a more special family event\, set up your table with tw
 o candles\, matches\, a cup of juice/wine and a Challah and honey. Shabbat
  is a time for families to gather to both celebrate Shabbat and the family
 !\n\n\n\nTo Join Zoom Meeting click here \n\nMeeting ID: 884 5603 1409\nP
 asscode: 058676
CATEGORIES:Celebration
END:VEVENT
BEGIN:VTIMEZONE
TZID:America/Los_Angeles
X-LIC-LOCATION:America/Los_Angeles
BEGIN:STANDARD
DTSTART:20201101T010000
TZOFFSETFROM:-0700
TZOFFSETTO:-0800
TZNAME:PST
END:STANDARD
END:VTIMEZONE
END:VCALENDAR