BEGIN:VCALENDAR
VERSION:2.0
PRODID:-//wp-events-plugin.com//7.0.4//EN
TZID:America/Los_Angeles
X-WR-TIMEZONE:America/Los_Angeles
BEGIN:VEVENT
UID:441@communityshul.com
DTSTART;TZID=America/Los_Angeles:20210226T173000
DTEND;TZID=America/Los_Angeles:20210226T181500
DTSTAMP:20210224T222459Z
URL:https://communityshul.com/events/pre-shabbat-zoom-meeting-4/
SUMMARY:Community Shul Purim Celebration on Zoom
DESCRIPTION:Join Rabbi Arthur for the Community Shul  Purim  Celebration 
 on Friday Feb 26 at 5:30 P.M.  Zoom meeting.  There will be a family pro
 gram with storytelling\, a fun interpretation of the Purim megillah and a 
 Purim spiel or Purim play which is an ensemble of festive practices for Pu
 rim. It is a comic dramatization of the Book of Esther\, the central text 
 and narrative that describes what transpired on Purim and why it is celebr
 ated as an important Jewish holiday.\n\nTo join the Zoom Meeting click her
 e\n\nMeeting ID: 836 7105 1171\nPasscode: 661787\n\n
CATEGORIES:Celebration
END:VEVENT
BEGIN:VTIMEZONE
TZID:America/Los_Angeles
X-LIC-LOCATION:America/Los_Angeles
BEGIN:STANDARD
DTSTART:20201101T010000
TZOFFSETFROM:-0700
TZOFFSETTO:-0800
TZNAME:PST
END:STANDARD
END:VTIMEZONE
END:VCALENDAR