BEGIN:VCALENDAR
VERSION:2.0
PRODID:-//wp-events-plugin.com//7.0.4//EN
TZID:America/Los_Angeles
X-WR-TIMEZONE:America/Los_Angeles
BEGIN:VEVENT
UID:447@communityshul.com
DTSTART;TZID=America/Los_Angeles:20210521T173000
DTEND;TZID=America/Los_Angeles:20210521T173000
DTSTAMP:20201230T194823Z
URL:https://communityshul.com/events/pre-shabbat-zoom-meeting-9/
SUMMARY:Pre - Shabbat Zoom Meeting
DESCRIPTION:Join Rabbi Arthur for the Pre-Shabbat Zoom meeting – it's thi
 rty minutes where we join to bring in the Shabbat with singing\, a story\,
  a little teaching and then the blessings. To make it a more special famil
 y event\, set up your table with two candles\, matches\, a cup of juice/wi
 ne and a Challah and honey. Shabbat is a time for families to gather to bo
 th celebrate Shabbat and the family!
CATEGORIES:Celebration
END:VEVENT
BEGIN:VTIMEZONE
TZID:America/Los_Angeles
X-LIC-LOCATION:America/Los_Angeles
BEGIN:DAYLIGHT
DTSTART:20210314T030000
TZOFFSETFROM:-0800
TZOFFSETTO:-0700
TZNAME:PDT
END:DAYLIGHT
END:VTIMEZONE
END:VCALENDAR