BEGIN:VCALENDAR
VERSION:2.0
PRODID:-//wp-events-plugin.com//7.0.4//EN
TZID:America/Los_Angeles
X-WR-TIMEZONE:America/Los_Angeles
BEGIN:VEVENT
UID:573@communityshul.com
DTSTART;TZID=America/Los_Angeles:20240219T153000
DTEND;TZID=America/Los_Angeles:20240219T153000
DTSTAMP:20230508T183247Z
URL:https://communityshul.com/events/presidents-day-no-religious-school-3/
SUMMARY:President’s Day - No religious school
DESCRIPTION:
END:VEVENT
BEGIN:VTIMEZONE
TZID:America/Los_Angeles
X-LIC-LOCATION:America/Los_Angeles
BEGIN:STANDARD
DTSTART:20231105T010000
TZOFFSETFROM:-0700
TZOFFSETTO:-0800
TZNAME:PST
END:STANDARD
END:VTIMEZONE
END:VCALENDAR