BEGIN:VCALENDAR
VERSION:2.0
PRODID:-//wp-events-plugin.com//7.0.4//EN
TZID:America/Los_Angeles
X-WR-TIMEZONE:America/Los_Angeles
BEGIN:VEVENT
UID:574@communityshul.com
DTSTART;TZID=America/Los_Angeles:20230306T170000
DTEND;TZID=America/Los_Angeles:20230306T183000
DTSTAMP:20230216T200905Z
URL:https://communityshul.com/events/purim-celebration-with-rabbi-arthur/
SUMMARY:Purim Celebration
DESCRIPTION:Purim Celebration\nThere will be a family program of storytelli
 ng\, music and a fun interpretation of the Purim spiel by the students!\n
 Pizza\, Salad\, Hamantashen and drinks will be provided. To RSVP please em
 ail Itzik Ben-Sasson at communityshul@gmail.com\n
CATEGORIES:Celebration
LOCATION:Jewish Community Center\, 524 Chapala St \, Santa Barbara\, CA\, 
 93101\, United States
GEO:34.4166846;-119.69710520000001
X-APPLE-STRUCTURED-LOCATION;VALUE=URI;X-ADDRESS=524 Chapala St \, Santa Ba
 rbara\, CA\, 93101\, United States;X-APPLE-RADIUS=100;X-TITLE=Jewish Commu
 nity Center:geo:34.4166846,-119.69710520000001
END:VEVENT
BEGIN:VTIMEZONE
TZID:America/Los_Angeles
X-LIC-LOCATION:America/Los_Angeles
BEGIN:STANDARD
DTSTART:20221106T010000
TZOFFSETFROM:-0700
TZOFFSETTO:-0800
TZNAME:PST
END:STANDARD
END:VTIMEZONE
END:VCALENDAR