BEGIN:VCALENDAR
VERSION:2.0
PRODID:-//wp-events-plugin.com//7.0.4//EN
TZID:America/Los_Angeles
X-WR-TIMEZONE:America/Los_Angeles
BEGIN:VEVENT
UID:420@communityshul.com
DTSTART;TZID=America/Los_Angeles:20210503T153000
DTEND;TZID=America/Los_Angeles:20210503T173000
DTSTAMP:20201015T190458Z
URL:https://communityshul.com/events/religious-school-119/
SUMMARY:Religious School
DESCRIPTION:Our young children’s program and B’nai Mitzvah program\, me
 et on Mondays from 3:30 to 5:30 p.m at the Bronfman Family JCC\n\nFor more
  information\, please email Itzik Ben Sasson: communityshul@gmail.com  o
 r call 805 895-6593\n\n
CATEGORIES:Education,Religious School
LOCATION:The Jewish Federation’s Bronfman Family JCC.\, 524 Chapala St\, 
 Santa Barbara\, CA\, 93101\, United States
GEO:34.416685;-119.697105
X-APPLE-STRUCTURED-LOCATION;VALUE=URI;X-ADDRESS=524 Chapala St\, Santa Barb
 ara\, CA\, 93101\, United States;X-APPLE-RADIUS=100;X-TITLE=The Jewish Fed
 eration’s Bronfman Family JCC.:geo:34.416685,-119.697105
END:VEVENT
BEGIN:VTIMEZONE
TZID:America/Los_Angeles
X-LIC-LOCATION:America/Los_Angeles
BEGIN:DAYLIGHT
DTSTART:20210314T030000
TZOFFSETFROM:-0800
TZOFFSETTO:-0700
TZNAME:PDT
END:DAYLIGHT
END:VTIMEZONE
END:VCALENDAR