BEGIN:VCALENDAR
VERSION:2.0
PRODID:-//wp-events-plugin.com//7.0.4//EN
TZID:America/Los_Angeles
X-WR-TIMEZONE:America/Los_Angeles
BEGIN:VEVENT
UID:481@communityshul.com
DTSTART;TZID=America/Los_Angeles:20220307T153000
DTEND;TZID=America/Los_Angeles:20220307T173000
DTSTAMP:20210601T200746Z
URL:https://communityshul.com/events/religious-school-148/
SUMMARY:Religious School
DESCRIPTION:Religious School  –Our young children's program and B'nai Mi
 tzvah program\, meet on Mondays  and/or Wednesday from 3:30 to 5:30 p.m a
 t the Bronfman Family JCC\n\nPersonal attention–Community Shul’s relig
 ious school program which begins at 1st grade is a small program with ve
 ry experienced teachers and Individualized tailored study program of Heb
 rew.\nInspiring Judaica curriculum- We strive to give our students a stro
 ng basis in Jewish literacy (holidays\, traditions\, Hebrew language &amp\
 ; stories)\, Jewish ritual practices\, a personal understanding of God\, t
 he Jewish soul\, and Jewish ethics.\nOur Staff-Community Shul of Montecito
  and Santa Barbara provides a deeply meaningful program supported by indiv
 idualized meetings with Rabbi Arthur and weekly tutorial support by our He
 brew speaking religious school staff.\nIndividualized B’nai Mitzvah Expe
 rience- The individualized B’nai Mitzvah program begins when the student
  becomes part of the program and is provided individualized Hebrew educati
 on based on one’s ability. This unique focus on individual needs continu
 es throughout the entire program.\nCommunity building activities- There ar
 e community building activities such as our ‘famous’ Fairfax Food’ o
 r ‘Los Angeles Synagogue’ Tour and the Rabbi’s retreat. Six months b
 efore the bar/bat event\, Rabbi Arthur meets with the candidate and candid
 ate’s family on a regular basis.
CATEGORIES:Education,Religious School
LOCATION:The Jewish Federation’s Bronfman Family JCC.\, 524 Chapala St\, 
 Santa Barbara\, CA\, 93101\, United States
GEO:34.416685;-119.697105
X-APPLE-STRUCTURED-LOCATION;VALUE=URI;X-ADDRESS=524 Chapala St\, Santa Barb
 ara\, CA\, 93101\, United States;X-APPLE-RADIUS=100;X-TITLE=The Jewish Fed
 eration’s Bronfman Family JCC.:geo:34.416685,-119.697105
END:VEVENT
BEGIN:VTIMEZONE
TZID:America/Los_Angeles
X-LIC-LOCATION:America/Los_Angeles
BEGIN:STANDARD
DTSTART:20211107T010000
TZOFFSETFROM:-0700
TZOFFSETTO:-0800
TZNAME:PST
END:STANDARD
END:VTIMEZONE
END:VCALENDAR