BEGIN:VCALENDAR
VERSION:2.0
PRODID:-//wp-events-plugin.com//7.0.4//EN
TZID:America/Los_Angeles
X-WR-TIMEZONE:America/Los_Angeles
BEGIN:VEVENT
UID:163@communityshul.com
DTSTART:20180411T223000Z
DTEND:20180411T233000Z
DTSTAMP:20170829T231825Z
URL:https://communityshul.com/events/religious-school-70/
SUMMARY:Religious School  
DESCRIPTION:Religious School  –Our young children's program and B'nai Mi
 tzvah program\, meet on Mondays  3:30 to 5:30 p.m  and/or Wednesday from
   3:30 to 4:30 p.m at the Bronfman Family JCC\n\nPersonal attention–Com
 munity Shul’s religious school program which begins at 1st grade is a s
 mall program with very experienced teachers and Individualized tailored 
 study program of Hebrew.\nInspiring Judaica curriculum- We strive to giv
 e our students a strong basis in Jewish literacy (holidays\, traditions\, 
 Hebrew language &amp\; stories)\, Jewish ritual practices\, a personal und
 erstanding of God\, the Jewish soul\, and Jewish ethics.\nOur Staff-Commun
 ity Shul of Montecito and Santa Barbara provides a deeply meaningful progr
 am supported by individualized meetings with Rabbi Arthur and weekly tutor
 ial support by our Hebrew speaking religious school staff.\nIndividualized
  B’nai Mitzvah Experience- The individualized B’nai Mitzvah program be
 gins when the student becomes part of the program and is provided individu
 alized Hebrew education based on one’s ability. This unique focus on ind
 ividual needs continues throughout the entire program.\nCommunity building
  activities- There are community building activities such as our ‘famous
 ’ Fairfax Food’ or ‘Los Angeles Synagogue’ Tour and the Rabbi’s 
 retreat. Six months before the bar/bat event\, Rabbi Arthur meets with the
  candidate and candidate’s family on a regular basis.
CATEGORIES:Education,Religious School
LOCATION:The Jewish Federation’s Bronfman Family JCC.\, 524 Chapala St\, 
 Santa Barbara\, CA\, 93101\, United States
GEO:34.416685;-119.697105
X-APPLE-STRUCTURED-LOCATION;VALUE=URI;X-ADDRESS=524 Chapala St\, Santa Barb
 ara\, CA\, 93101\, United States;X-APPLE-RADIUS=100;X-TITLE=The Jewish Fed
 eration’s Bronfman Family JCC.:geo:34.416685,-119.697105
END:VEVENT
END:VCALENDAR