BEGIN:VCALENDAR
VERSION:2.0
PRODID:-//wp-events-plugin.com//7.0.4//EN
TZID:America/Los_Angeles
X-WR-TIMEZONE:America/Los_Angeles
BEGIN:VEVENT
UID:365@communityshul.com
DTSTART:20191020T160000Z
DTEND:20191021T000000Z
DTSTAMP:20190807T011515Z
URL:https://communityshul.com/events/religious-school-trip-to-skirball-cul
 tural-center/
SUMMARY:Religious School  Trip to Skirball Cultural Center
DESCRIPTION:Rabbi Arthur and will meet with parents and volunteers at the J
 ewish Federation’s Parking lot. The Skirball Cultural Center is a place 
 of meeting guided by the Jewish tradition of welcoming the stranger and in
 spired by the American democratic ideals of freedom and equality.
CATEGORIES:Education,Religious School
END:VEVENT
END:VCALENDAR