BEGIN:VCALENDAR
VERSION:2.0
PRODID:-//wp-events-plugin.com//7.0.4//EN
TZID:America/Los_Angeles
X-WR-TIMEZONE:America/Los_Angeles
BEGIN:VEVENT
UID:204@communityshul.com
DTSTART:20180910T170000Z
DTEND:20180910T193000Z
DTSTAMP:20180806T034458Z
URL:https://communityshul.com/events/rosh-hashanah-day-2/
SUMMARY:Rosh Hashanah Day
DESCRIPTION:We are excited to invite you to join our 5779 (2018). Each year
  we offer uniquely warm and participatory services.  Everyone is encourag
 ed to participate in a variety of ways.  It is that personal involvement 
 and connection that makes our community and our services so vibrant and me
 aningful.\n\nTo make a donation please click here 
CATEGORIES:High Holidays
LOCATION:Pacifica Graduate Institute\, 801 Ladera Lane\,\, Santa Barbara\, 
 CA\, 93108\, United States
GEO:34.4419729;-119.58111229999997
X-APPLE-STRUCTURED-LOCATION;VALUE=URI;X-ADDRESS=801 Ladera Lane\,\, Santa B
 arbara\, CA\, 93108\, United States;X-APPLE-RADIUS=100;X-TITLE=Pacifica Gr
 aduate Institute:geo:34.4419729,-119.58111229999997
END:VEVENT
END:VCALENDAR