BEGIN:VCALENDAR
VERSION:2.0
PRODID:-//wp-events-plugin.com//7.0.4//EN
TZID:America/Los_Angeles
X-WR-TIMEZONE:America/Los_Angeles
BEGIN:VEVENT
UID:16@communityshul.com
DTSTART;TZID=America/Los_Angeles:20220926T100000
DTEND;TZID=America/Los_Angeles:20220926T123000
DTSTAMP:20220922T161542Z
URL:https://communityshul.com/events/rosh-hashanah-day/
SUMMARY:Rosh Hashanah Day
DESCRIPTION:Rosh Hashanah\nPlease join on us for our welcoming and intimate
  Rosh Hashanah services at the Music Academy Of The West led by our exciti
 ng Rabbi Arthur Gross-Schaefer.\n\nOur services are intentionally creative
  and emphasize intimate experiences within our caring community. We welcom
 e Jews of all backgrounds as well as interfaith and blended families.\n\nC
 ommunity Shul is a non-profit organization that depends on the generosity 
 of our community members.   To make a donation please click here  . \n
 Thank you for your generosity and support.\nAll participants must be fully
  vaccinated. Masks and proof of vaccination status will be required.\n\nTo
  join the service on Zoom please click here\n\nMeeting ID: 861 9283 0790\n
 Passcode: 611443\n\nMusic Academy of the West  Directions\, Parking\, &am
 p\; Contact Information\n\nFrom the North or South\nTake Highway 101 to th
 e Olive Mill Road exit.\n* Turn toward the ocean (right if from the North\
 , left if from the South).\n* Cross the railroad tracks and continue as Ch
 annel Drive curves to the right.\n* Follow Channel Drive as it passes Butt
 erfly Beach on your left.\n* At the stop sign\, continue up the hill and f
 ollow the road as it curves to the right and becomes Fairway Road.\n* Turn
  Right into the Music Academy of the West at 1070 Fairway Road. Follow the
  signs for parking.\n\nParking\nCampus parking is free for events and acti
 vities held at the Music Academy. Parking spaces along the driveway in fro
 nt of Hahn Hall are exclusively and entirely reserved/handicapped. Able-bo
 died patrons will be directed to park in the lower lots.\n\nDirections whe
 n you enter the Music Academy campus: Enter the main entrance gate and tur
 n to your right. Your now in the upper parking lot. At the end of this par
 king lot is the main administrative building – Marilyn Horne Building 
 – which houses the Lehmann Hall. Park either in the upper parking lot or
  you may go down to the lower parking lot which has a lot of parking. You 
 will then enter the Marilyn Horne Building through its two doors\, go a fe
 w steps to the hallway and turn right. After another few steps\, you will 
 enter the Lehmann Hall. We’ll have some members around to help guide you
 .\n\n&nbsp\;\n\n&nbsp\;\n\n&nbsp\;\n\n
CATEGORIES:High Holidays
LOCATION:Music Academy Of The West\, 1070 Fairway Rd\, Santa Barbara \, Cal
 ifornia\, 93108\, United States
X-APPLE-STRUCTURED-LOCATION;VALUE=URI;X-ADDRESS=1070 Fairway Rd\, Santa Bar
 bara \, California\, 93108\, United States;X-APPLE-RADIUS=100;X-TITLE=Musi
 c Academy Of The West:geo:0,0
END:VEVENT
BEGIN:VTIMEZONE
TZID:America/Los_Angeles
X-LIC-LOCATION:America/Los_Angeles
BEGIN:DAYLIGHT
DTSTART:20220313T030000
TZOFFSETFROM:-0800
TZOFFSETTO:-0700
TZNAME:PDT
END:DAYLIGHT
END:VTIMEZONE
END:VCALENDAR