BEGIN:VCALENDAR
VERSION:2.0
PRODID:-//wp-events-plugin.com//7.0.4//EN
TZID:America/Los_Angeles
X-WR-TIMEZONE:America/Los_Angeles
BEGIN:VEVENT
UID:203@communityshul.com
DTSTART:20180910T020000Z
DTEND:20180910T040000Z
DTSTAMP:20180806T034209Z
URL:https://communityshul.com/events/rosh-hashanah-eve-3/
SUMMARY:Rosh Hashanah Eve
DESCRIPTION:We are excited to invite you to join our 5779 (2018) High Holid
 ay services starting on September 9.  Each year we offer uniquely warm an
 d participatory services.  Everyone is encouraged to participate in a var
 iety of ways.  It is that personal involvement and connection that makes 
 our community and our services so vibrant and meaningful.\n\nTo make a don
 ation please click here 
CATEGORIES:High Holidays
LOCATION:Pacifica\, 801 Ladera Lane\, Santa Barbara\, CA\, 93108\, United S
 tates
GEO:34.4419729;-119.58111229999997
X-APPLE-STRUCTURED-LOCATION;VALUE=URI;X-ADDRESS=801 Ladera Lane\, Santa Bar
 bara\, CA\, 93108\, United States;X-APPLE-RADIUS=100;X-TITLE=Pacifica:geo:
 34.4419729,-119.58111229999997
END:VEVENT
END:VCALENDAR